BEGIN:VCALENDAR
VERSION:2.0
PRODID:-//Staplehurst Free Church - ECPv4.6.17//NONSGML v1.0//EN
CALSCALE:GREGORIAN
METHOD:PUBLISH
X-WR-CALNAME:Staplehurst Free Church
X-ORIGINAL-URL:http://staplehurstfreechurch.org.uk/fcs
X-WR-CALDESC:Events for Staplehurst Free Church
BEGIN:VEVENT
DTSTART;TZID=Europe/London:20250216T103000
DTEND;TZID=Europe/London:20250216T120000
DTSTAMP:20260419T124622
CREATED:20250212T142612Z
LAST-MODIFIED:20250212T143741Z
UID:14832-1739701800-1739707200@staplehurstfreechurch.org.uk
SUMMARY:16th February 10:30am Sunday Connection 10:30am
DESCRIPTION:Todays Speaker will be Terence Hawgood \n
URL:http://staplehurstfreechurch.org.uk/fcs/event/16th-february-1030am-sunday-connection-1030am/
LOCATION:Station Road\, Staplehurst\, TN12 0QQ  \, United Kingdom
CATEGORIES:Church Life,Communion,Services
END:VEVENT
END:VCALENDAR