BEGIN:VCALENDAR
VERSION:2.0
PRODID:-//Staplehurst Free Church - ECPv4.6.17//NONSGML v1.0//EN
CALSCALE:GREGORIAN
METHOD:PUBLISH
X-WR-CALNAME:Staplehurst Free Church
X-ORIGINAL-URL:http://staplehurstfreechurch.org.uk/fcs
X-WR-CALDESC:Events for Staplehurst Free Church
BEGIN:VEVENT
DTSTART;TZID=Europe/London:20250601T103000
DTEND;TZID=Europe/London:20250601T120000
DTSTAMP:20260419T134941
CREATED:20250513T092859Z
LAST-MODIFIED:20250513T093002Z
UID:14966-1748773800-1748779200@staplehurstfreechurch.org.uk
SUMMARY:1st June Sunday Connection at 10:30am
DESCRIPTION:All are welcome to join us as our speaker gives us an update on the role of Compassion this week. \n
URL:http://staplehurstfreechurch.org.uk/fcs/event/1st-june-sunday-connection-at-1030am/
LOCATION:Station Road\, Staplehurst\, TN12 0QQ  \, United Kingdom
CATEGORIES:Communion,Services,Teaching,Worship
END:VEVENT
END:VCALENDAR