BEGIN:VCALENDAR
VERSION:2.0
PRODID:-//Staplehurst Free Church - ECPv4.6.17//NONSGML v1.0//EN
CALSCALE:GREGORIAN
METHOD:PUBLISH
X-WR-CALNAME:Staplehurst Free Church
X-ORIGINAL-URL:http://staplehurstfreechurch.org.uk/fcs
X-WR-CALDESC:Events for Staplehurst Free Church
BEGIN:VEVENT
DTSTART;TZID=Europe/London:20250610T100000
DTEND;TZID=Europe/London:20250610T120000
DTSTAMP:20260419T145418
CREATED:20250512T120004Z
LAST-MODIFIED:20250513T130716Z
UID:14095-1749549600-1749556800@staplehurstfreechurch.org.uk
SUMMARY:Friends Together Tuesday 10th June 10am to midday
DESCRIPTION:Our monthly get together which is a chance to try new things\, participate in a light hearted team quiz all whilst drinking coffee or another choice of refreshment! \n
URL:http://staplehurstfreechurch.org.uk/fcs/event/friends-together-tuesday-13th-may/
LOCATION:Station Road\, Staplehurst\, TN12 0QQ  \, United Kingdom
CATEGORIES:Community,Seniors
END:VEVENT
END:VCALENDAR