BEGIN:VCALENDAR
VERSION:2.0
PRODID:-//Staplehurst Free Church - ECPv4.6.17//NONSGML v1.0//EN
CALSCALE:GREGORIAN
METHOD:PUBLISH
X-WR-CALNAME:Staplehurst Free Church
X-ORIGINAL-URL:http://staplehurstfreechurch.org.uk/fcs
X-WR-CALDESC:Events for Staplehurst Free Church
BEGIN:VEVENT
DTSTART;TZID=Europe/London:20250406T103000
DTEND;TZID=Europe/London:20250406T120000
DTSTAMP:20260419T140304
CREATED:20250319T113656Z
LAST-MODIFIED:20250319T113656Z
UID:14944-1743935400-1743940800@staplehurstfreechurch.org.uk
SUMMARY:Sunday Connection 6th April at 10:30am
DESCRIPTION:Please join us as we meet for worship and fellowship \n
URL:http://staplehurstfreechurch.org.uk/fcs/event/sunday-connection-6th-april-at-1030am/
LOCATION:Station Road\, Staplehurst\, TN12 0QQ  \, United Kingdom
CATEGORIES:Communion,Teaching,Worship
END:VEVENT
END:VCALENDAR