BEGIN:VCALENDAR
VERSION:2.0
PRODID:-//Staplehurst Free Church - ECPv4.6.17//NONSGML v1.0//EN
CALSCALE:GREGORIAN
METHOD:PUBLISH
X-WR-CALNAME:Staplehurst Free Church
X-ORIGINAL-URL:http://staplehurstfreechurch.org.uk/fcs
X-WR-CALDESC:Events for Staplehurst Free Church
BEGIN:VEVENT
DTSTART;TZID=Europe/London:20240910T123000
DTEND;TZID=Europe/London:20240910T160000
DTSTAMP:20260419T124127
CREATED:20240905T090054Z
LAST-MODIFIED:20240905T090319Z
UID:14293-1725971400-1725984000@staplehurstfreechurch.org.uk
SUMMARY:Warm Welcome Spaces at SFC 12:30pm to 4pm
DESCRIPTION:Continuing on from the national winter initiative Staplehurst Free church has continued to provide a free\, warm and welcoming space with free refreshments every Tuesday afternoon form 12:30 to 4pm – why not join us for an afternoon of friendship and chat? \n
URL:http://staplehurstfreechurch.org.uk/fcs/event/warm-welcome-hub-at-sfc-1230pm-to-4pm/
LOCATION:Station Road\, Staplehurst\, TN12 0QQ  \, United Kingdom
CATEGORIES:Community
ATTACH;FMTTYPE=image/png:http://staplehurstfreechurch.org.uk/fcs/wp-content/uploads/2024/03/Warm-Welcome-Hub-v2.0.png
END:VEVENT
END:VCALENDAR