BEGIN:VCALENDAR
VERSION:2.0
PRODID:-//Staplehurst Free Church - ECPv4.6.17//NONSGML v1.0//EN
CALSCALE:GREGORIAN
METHOD:PUBLISH
X-WR-CALNAME:Staplehurst Free Church
X-ORIGINAL-URL:http://staplehurstfreechurch.org.uk/fcs
X-WR-CALDESC:Events for Staplehurst Free Church
BEGIN:VEVENT
DTSTART;TZID=Europe/London:20250606T180000
DTEND;TZID=Europe/London:20250606T193000
DTSTAMP:20260420T085554
CREATED:20250507T105417Z
LAST-MODIFIED:20250513T091834Z
UID:14994-1749232800-1749238200@staplehurstfreechurch.org.uk
SUMMARY:Youth 24
DESCRIPTION:Open to those in years 6 to 11 \nThis session will focus on T shirt upcycling\, so please remember to bring a T shirt! \n
URL:http://staplehurstfreechurch.org.uk/fcs/event/youth-24/
LOCATION:Station Road\, Staplehurst\, TN12 0QQ  \, United Kingdom
CATEGORIES:Youth
END:VEVENT
END:VCALENDAR